{"text_format":"2","workbook":"xlsx","n_sheets":13,"sheets":["Instructions and Summary","SF-424A (Rev. 4-92) ","SF-424A","a. Personnel","b. Fringe Benefits","c. Travel","d. Equipment","e. Supplies","f. Contractual","g. Construction","h. Other","i. Indirect Costs","Cost Share"],"not_rendered":{"charts":0,"images":2,"macros":0,"external_links":0,"defined_names":48,"comments":0,"pivot_tables":0},"unopened":[],"bounds":{"document_bytes":16777216,"sheet_cells":100000,"run_cost":"one","rows_first":2000,"rows_last":500,"rows_between":2000,"halvings":0,"cell_chars":16384,"cell_head_chars":4096},"cells_cut":0,"cells_raw":0,"read":"whole","date_system":"1900"}

{"sheet":"Instructions and Summary","index":0,"n_rows":26,"n_cols":7,"rows_kept":26,"cut":false,"hidden":false,"merged":[[26,0,26,6],[3,1,3,2],[3,3,3,5],[5,0,5,6],[6,0,6,6],[8,0,8,6],[1,0,1,6],[2,1,2,2],[2,3,2,5],[25,0,25,2],[0,4,0,5],[0,0,0,2]]}
["Budget Justification for SF 424A Budget",null,null,null,"Last Updated / Version # :"]
["Instructions and Summary"]
["Control Number:",null,null,"Original Date of Submission:"]
["NOFO Acronym:",null,null,"Submitted by: ",null,null,"(Recipient Name)"]
[]
["Please read the instructions on each tab before starting.  \nIf you have any questions, please submit to ARPA-E-CO@hq.doe.gov.  It will save you time!  Double check all fields highlighted in yellow!"]
["This worksheet auto populates when data is entered on subsequent tabs (a. Personnel, b. Fringe Benefits, c. Travel, d. Equipment, e. Supplies, f. Contractual, g. Construction, h. Other, i. Indirect Costs, Cost Share). The term “tab” refers to a worksheet within the Budget Justification Workbook. Each tab may be found and accessed at the bottom of this Workbook. On this Instructions and Summary tab the award recipient should update Control Number, Award Recipient, Original Date of Submission, Submitted By, and the Comments section as needed. \n\nThe Project Team Lead must complete this Budget Justification Workbook. Subrecipients do not need to complete their own additional Budget Justification Workbooks. \n\nThe total budget presented in the Budget Justification Workbook / SF-424A must include both Federal (ARPA-E) and Non-Federal (cost share) expenditures, the sum of which equals the Total Project Cost proposed by the Recipient. All costs, whether paid with Federal funding or by the Project Team, must be justified.  \n\nEach budget category will automatically populate in the second tab in this Budget Justification Workbook (SF-424A). The award recipient must review the SF-424A, fill in the award number and fill in Section D (Projected Cash Flows) in the SF-424A tab. \n\nAll costs incurred by subrecipients, vendors, contractors, consultants and Federally Funded Research and Development Centers (FFRDCs), must be entered in tab f. Contractual. All other sections are for the costs of the Project Team Lead only. \n\nAll expenditures must be allowable, allocable, and reasonable in accordance with the applicable Federal cost principles.  "]
[]
["SUMMARY OF BUDGET CATEGORY COSTS PROPOSED\n(Note: The values in this summary table are from entries made in each budget category tab.)"]
["CATEGORY","Year 1","Year 2","Year 3"," Total Costs","Project Costs %","Comments\n(Add comments as needed)"]
["a. Personnel",{"$f":"ROUND('a. Personnel'!E180,0)","v":0},{"$f":"ROUND('a. Personnel'!H180,0)","v":0},{"$f":"ROUND('a. Personnel'!K180,0)","v":0},{"$f":"SUM(B11:D11)","v":0},{"$f":"IFERROR(E11/$E$24,\"\")","v":""}]
["b. Fringe Benefits",{"$f":"ROUND('b. Fringe Benefits'!D10,0)","v":0},{"$f":"ROUND('b. Fringe Benefits'!E10,0)","v":0},{"$f":"ROUND('b. Fringe Benefits'!F10,0)","v":0},0,{"$f":"IFERROR(E12/$E$24,\"\")","v":""}]
["c. Travel",{"$f":"ROUND('c. Travel'!G48,0)","v":0},{"$f":"ROUND('c. Travel'!G91,0)","v":0},{"$f":"ROUND('c. Travel'!G134,0)","v":0},0,{"$f":"IFERROR(E13/$E$24,\"\")","v":""}]
["d. Equipment",{"$f":"ROUND('d. Equipment'!D56,0)","v":0},{"$f":"ROUND('d. Equipment'!D107,0)","v":0},{"$f":"ROUND('d. Equipment'!D158,0)","v":0},0,{"$f":"IFERROR(E14/$E$24,\"\")","v":""}]
["e. Supplies",{"$f":"ROUND('e. Supplies'!D80,0)","v":0},{"$f":"ROUND('e. Supplies'!D153,0)","v":0},{"$f":"ROUND('e. Supplies'!D226,0)","v":0},0,{"$f":"IFERROR(E15/$E$24,\"\")","v":""}]
["f. Contractual"]
["Sub-recipient",{"$f":"ROUND('f. Contractual'!C21,0)","v":0},{"$f":"ROUND('f. Contractual'!D21,0)","v":0},{"$f":"ROUND('f. Contractual'!E21,0)","v":0},{"$f":"SUM(B17:D17)","v":0},{"$f":"IFERROR(E17/$E$24,\"\")","v":""}]
["FFRDC",{"$f":"ROUND('f. Contractual'!C48,0)","v":0},{"$f":"ROUND('f. Contractual'!D48,0)","v":0},{"$f":"ROUND('f. Contractual'!E48,0)","v":0},0,""]
["Vendor",{"$f":"ROUND('f. Contractual'!C35,0)","v":0},{"$f":"ROUND('f. Contractual'!D35,0)","v":0},{"$f":"ROUND('f. Contractual'!E35,0)","v":0},0,""]
["Total Contractual ",{"$f":"SUM(B17:B19)","v":0},{"$f":"SUM(C17:C19)","v":0},0,0,""]
["g. Construction",{"$f":"ROUND('g. Construction'!B16,0)","v":0},{"$f":"ROUND('g. Construction'!B24,0)","v":0},{"$f":"ROUND('g. Construction'!B32,0)","v":0},0,""]
["h. Other Direct Costs",{"$f":"ROUND('h. Other'!B44,0)","v":0},{"$f":"ROUND('h. Other'!B67,0)","v":0},{"$f":"ROUND('h. Other'!B90,0)","v":0},{"$f":"SUM(B22:D22)","v":0},""]
["i. Indirect Charges",{"$f":"ROUND('i. Indirect Costs'!D9,0)","v":0},{"$f":"ROUND('i. Indirect Costs'!E9,0)","v":0},{"$f":"ROUND('i. Indirect Costs'!F9,0)","v":0},{"$f":"SUM(B23:D23)","v":0},""]
["Total Project Costs",{"$f":"SUM(B11:B15,B20:B23)","v":0},{"$f":"SUM(C11:C15,C20:C23)","v":0},{"$f":"SUM(D11:D15,D20:D23)","v":0},{"$f":"SUM(E11:E15,E20:E23)","v":0},{"$f":"IFERROR(SUM(F11:F23)-F20,\"\")","v":""}]
[]
["Additional Explanations/Comments (as necessary):"]

{"sheet":"SF-424A (Rev. 4-92) ","index":1,"n_rows":63,"n_cols":8,"rows_kept":63,"cut":false,"hidden":true,"merged":[[60,2,60,6],[61,0,61,1],[62,2,62,6],[64,0,101,7],[103,0,144,7],[49,1,49,3],[40,0,40,2],[40,3,40,7],[41,0,41,2],[42,1,42,2],[43,1,43,2],[45,0,45,3],[45,4,45,7],[46,0,47,3],[46,4,46,7],[48,1,48,3],[44,1,44,2],[36,1,36,3],[37,1,37,3],[38,1,38,3],[58,0,58,7],[59,0,59,7],[50,1,50,3],[51,1,51,3],[52,1,52,3],[53,0,53,2],[53,3,53,7],[54,2,54,3],[54,5,54,7],[55,0,55,3],[55,4,55,7],[56,2,56,7],[57,0,57,7],[39,1,39,3],[33,0,33,2],[33,3,33,7],[21,1,21,2],[22,1,22,2],[23,1,23,2],[24,1,24,2],[25,1,25,2],[26,0,26,7],[27,1,27,2],[30,0,30,1],[30,2,30,5],[30,6,30,7],[31,0,31,7],[34,1,34,3],[35,1,35,3],[20,1,20,2],[12,0,12,1],[12,2,12,7],[13,0,14,0],[13,1,14,2],[13,3,13,6],[13,7,14,7],[15,1,15,2],[16,1,16,2],[17,1,17,2],[18,1,18,2],[19,1,19,2],[0,0,0,1],[1,0,1,7],[2,0,2,7],[3,0,3,1],[3,2,3,7],[0,2,0,3],[4,0,5,0],[4,1,5,1],[4,2,5,2],[4,3,4,4],[4,5,4,7]]}
["Applicant Name:",null,null,null,"Award Number:"]
["Budget Information - Non Construction Programs"]
["OMB Approval No. 0348-0044"]
["Section A - Budget Summary"]
[null,"Grant Program Function or Activity","Catalog of Federal Domestic Assistance Number","Estimated Unobligated Funds",null,"New or Revised Budget"]
[null,null,null,"Federal ","Non-Federal ","Federal","Non-Federal","Total"]
[null,"(a)","(b)","(c )","(d)","(e)","(f)","(g)"]
["1.",{"$nulls":6},{"$f":"SUM(D8:G8)","v":0}]
["2.",{"$nulls":6},{"$f":"SUM(D9:G9)","v":0}]
["3.",{"$nulls":6},{"$f":"SUM(D10:G10)","v":0}]
["4.",{"$nulls":6},{"$f":"SUM(D11:G11)","v":0}]
["5.","Totals",null,{"$f":"SUM(D8:D11)","v":0},{"$f":"SUM(E8:E11)","v":0},{"$f":"SUM(F8:F11)","v":0},{"$f":"SUM(G8:G11)","v":0},{"$f":"SUM(H8:H11)","v":0}]
["Section B - Budget Categories"]
["6.","Object Class Categories",null,"Grant Program, Function or Activity",null,null,null,"Total (5)"]
[null,null,null,"(1)","(2)","(3)","(4)"]
[null,"a.  Personnel",{"$nulls":5},{"$f":"SUM(D16:G16)","v":0}]
[null,"b.  Fringe Benefits",{"$nulls":5},0]
[null,"c.  Travel",{"$nulls":5},0]
[null,"d.  Equipment",{"$nulls":5},0]
[null,"e.  Supplies",{"$nulls":5},0]
[null,"f.  Contractual",{"$nulls":5},0]
[null,"g.  Construction",{"$nulls":5},0]
[null,"h.  Other",{"$nulls":5},0]
[null,"i.  Total Direct Charges (sum of 6a-6h)",null,{"$f":"SUM(D16:D23)","v":0},{"$f":"SUM(E16:E23)","v":0},{"$f":"SUM(F16:F23)","v":0},{"$f":"SUM(G16:G23)","v":0},0]
[null,"j.  Indirect Charges",{"$nulls":5},0]
[null,"k.  Totals (sum of 6i-6j)",null,{"$f":"SUM(D24:D25)","v":0},{"$f":"SUM(E24:E25)","v":0},{"$f":"SUM(F24:F25)","v":0},{"$f":"SUM(G24:G25)","v":0},{"$f":"SUM(H24:H25)","v":0}]
[]
["7.","Program Income",{"$nulls":5},{"$f":"SUM(D28:G28)","v":0}]
[]
[{"$nulls":7},"SF-424A (Rev. 4-92) "]
["Previous Edition Usable",{"$nulls":5},"Prescribed by OMB Circular A-102"]
["Authorized for Local Reproduction"]
[]
["Section C - Non-Federal Resources"]
[null,"(a) Grant Program",null,null,"(b) Applicant","(c ) State","(d) Other Sources","(e) Totals"]
["8.",{"$nulls":6},{"$f":"SUM(E36:G36)","v":0}]
["9.",{"$nulls":6},{"$f":"SUM(E37:G37)","v":0}]
["10.",{"$nulls":6},{"$f":"SUM(E38:G38)","v":0}]
["11.",{"$nulls":6},{"$f":"SUM(E39:G39)","v":0}]
["12.","Total (sum of lines 8 - 11)",null,null,{"$f":"SUM(E36:E39)","v":0},{"$f":"SUM(F36:F39)","v":0},{"$f":"SUM(G36:G39)","v":0},{"$f":"SUM(H36:H39)","v":0}]
["Section D - Forecasted Cash Needs"]
[null,null,null,"Total for 1st Year","1st Quarter","2nd Quarter","3rd Quarter","4th quarter"]
["13.","Federal",null,{"$f":"SUM(E43:H43)","v":0}]
["14.","Non-Federal",null,{"$f":"SUM(E44:H44)","v":0}]
["15.","Total (sum of lines 13 and 14)",null,{"$f":"SUM(D43:D44)","v":0},{"$f":"SUM(E43:E44)","v":0},{"$f":"SUM(F43:F44)","v":0},{"$f":"SUM(G43:G44)","v":0},{"$f":"SUM(H43:H44)","v":0}]
["Section E - Budget Estimates of Federal Funds Needed for Balance of the Project"]
["(a) Grant Program",null,null,null,"Future Funding Periods (Years)"]
[{"$nulls":4},"(b) First","(c ) Second","(d) Third","(e) Fourth"]
["16."]
["17."]
["18."]
["19."]
["20.","Total (sum of lines 16-19)",null,null,{"$f":"SUM(E49:E52)","v":0},{"$f":"SUM(F49:F52)","v":0},{"$f":"SUM(G49:G52)","v":0},{"$f":"SUM(H49:H52)","v":0}]
["Section F - Other Budget Information"]
["21. Direct Charges",null,null,null,"22. Indirect Charges"]
[]
["23.  Remarks"]
[]
[]
[]
[{"$nulls":7},"SF-424A (Rev. 4-92) "]
["Previous Edition Usable",null,"              ",{"$nulls":4},"Prescribed by OMB Circular A-102"]
[null,null,"Authorized for Local Reproduction"]

{"sheet":"SF-424A","index":2,"n_rows":61,"n_cols":10,"rows_kept":61,"cut":false,"hidden":false,"merged":[[54,2,54,3],[49,1,49,3],[60,2,60,6],[62,0,99,7],[101,0,142,7],[59,0,59,1],[50,1,50,3],[0,2,0,3],[0,5,0,6],[58,2,58,6],[55,0,55,3],[55,4,55,7],[56,2,56,7],[57,0,57,7],[53,0,53,2],[53,3,53,7],[35,1,35,3],[54,5,54,7],[51,1,51,3],[52,1,52,3],[39,1,39,3],[40,0,40,2],[40,3,40,7],[41,0,41,2],[42,1,42,2],[43,1,43,2],[44,1,44,2],[45,0,45,3],[45,4,45,7],[46,0,47,3],[46,4,46,7],[48,1,48,3],[20,1,20,2],[37,1,37,3],[38,1,38,3],[23,1,23,2],[24,1,24,2],[25,1,25,2],[26,0,26,7],[27,1,27,2],[30,0,30,1],[30,2,30,5],[30,6,30,7],[31,0,31,7],[33,0,33,2],[33,3,33,7],[34,1,34,3],[15,1,15,2],[16,1,16,2],[17,1,17,2],[18,1,18,2],[19,1,19,2],[12,2,12,7],[13,0,14,0],[13,1,14,2],[13,3,13,6],[13,7,14,7],[42,9,43,11],[44,9,44,11],[4,3,4,4],[0,0,0,1],[1,0,1,7],[2,0,2,7],[3,0,3,1],[3,2,3,7],[4,5,4,7],[4,0,5,0],[4,1,5,1],[4,2,5,2],[36,1,36,3],[21,1,21,2],[22,1,22,2],[12,0,12,1]]}
["Applicant Name:",null,{"$f":"'Instructions and Summary'!B4","v":0},null,"Award Number:"]
["Budget Information - Non Construction Programs"]
["OMB Number: 4040-0006\nExpiration Date: 02/28/2025"]
["Section A - Budget Summary"]
[null,"Grant Program Function or Activity","Catalog of Federal Domestic Assistance Number","Estimated Unobligated Funds",null,"New or Revised Budget"]
[null,null,null,"Federal ","Non-Federal ","Federal","Non-Federal","Total"]
[null,"(a)","(b)","(c )","(d)","(e)","(f)","(g)"]
["1.","Budget period 1",81.135000000000005,null,null,{"$f":"ROUND($D$26-G8,0)","v":0},{"$f":"ROUND('Cost Share'!E25,0)","v":0},{"$f":"SUM(D8:G8)","v":0}]
["2.","Budget period 2",81.135000000000005,null,null,{"$f":"ROUND($E$26-G9,0)","v":0},{"$f":"ROUND('Cost Share'!F25,0)","v":0},{"$f":"SUM(D9:G9)","v":0}]
["3.","Budget period 3",81.135000000000005,null,null,{"$f":"ROUND($F$26-G10,0)","v":0},{"$f":"ROUND('Cost Share'!G25,0)","v":0},{"$f":"SUM(D10:G10)","v":0}]
["4."]
["5.","Totals",null,{"$f":"SUM(D8:D11)","v":0},{"$f":"SUM(E8:E11)","v":0},{"$f":"SUM(F8:F11)","v":0},{"$f":"SUM(G8:G11)","v":0},{"$f":"SUM(H8:H11)","v":0}]
["Section B - Budget Categories"]
["6.","Object Class Categories",null,"Grant Program, Function or Activity",null,null,null,"Total (5)"]
[null,null,null,"Year 1","Year 2","Year 3","(4)"]
[null,"a.  Personnel",null,{"$f":"'Instructions and Summary'!B11","v":0},{"$f":"'Instructions and Summary'!C11","v":0},{"$f":"'Instructions and Summary'!D11","v":0},null,{"$f":"SUM(D16:G16)","v":0}]
[null,"b.  Fringe Benefits",null,{"$f":"'Instructions and Summary'!B12","v":0},{"$f":"'Instructions and Summary'!C12","v":0},{"$f":"'Instructions and Summary'!D12","v":0},null,0]
[null,"c.  Travel",null,{"$f":"'Instructions and Summary'!B13","v":0},{"$f":"'Instructions and Summary'!C13","v":0},{"$f":"'Instructions and Summary'!D13","v":0},null,0]
[null,"d.  Equipment",null,{"$f":"'Instructions and Summary'!B14","v":0},{"$f":"'Instructions and Summary'!C14","v":0},{"$f":"'Instructions and Summary'!D14","v":0},null,0]
[null,"e.  Supplies",null,{"$f":"'Instructions and Summary'!B15","v":0},{"$f":"'Instructions and Summary'!C15","v":0},{"$f":"'Instructions and Summary'!D15","v":0},null,0]
[null,"f.  Contractual",null,{"$f":"'Instructions and Summary'!B20","v":0},{"$f":"'Instructions and Summary'!C20","v":0},{"$f":"'Instructions and Summary'!D20","v":0},null,0]
[null,"g.  Construction",null,{"$f":"'Instructions and Summary'!B21","v":0},{"$f":"'Instructions and Summary'!C21","v":0},{"$f":"'Instructions and Summary'!D21","v":0},null,0]
[null,"h.  Other",null,{"$f":"'Instructions and Summary'!B22","v":0},{"$f":"'Instructions and Summary'!C22","v":0},{"$f":"'Instructions and Summary'!D22","v":0},null,0]
[null,"i.  Total Direct Charges (sum of 6a-6h)",null,{"$f":"SUM(D16:D23)","v":0},{"$f":"SUM(E16:E23)","v":0},{"$f":"SUM(F16:F23)","v":0},null,0]
[null,"j.  Indirect Charges",null,{"$f":"'Instructions and Summary'!B23","v":0},{"$f":"'Instructions and Summary'!C23","v":0},{"$f":"'Instructions and Summary'!D23","v":0},null,0]
[null,"k.  Totals (sum of 6i-6j)",null,{"$f":"SUM(D24:D25)","v":0},{"$f":"SUM(E24:E25)","v":0},{"$f":"SUM(F24:F25)","v":0},null,{"$f":"SUM(H24:H25)","v":0}]
[]
["7.","Program Income",{"$nulls":5},{"$f":"SUM(D28:G28)","v":0}]
[]
[{"$nulls":7},"SF-424A (Rev. 7-97) "]
["Previous Edition Usable",{"$nulls":5},"Prescribed by OMB Circular A-102"]
["Authorized for Local Reproduction"]
[]
["Section C - Non-Federal Resources"]
[null,"(a) Grant Program",null,null,"(b) Applicant","(c ) State","(d) Other Sources","(e) Totals"]
["8.","Budget period 1",null,null,{"$f":"ROUND('Cost Share'!K13,0)","v":0},{"$f":"ROUND('Cost Share'!K14,0)","v":0},{"$f":"ROUND('Cost Share'!K15,0)","v":0},{"$f":"SUM(E36:G36)","v":0}]
["9.","Budget period 2",null,null,{"$f":"ROUND('Cost Share'!L13,0)","v":0},{"$f":"ROUND('Cost Share'!L14,0)","v":0},{"$f":"ROUND('Cost Share'!L15,0)","v":0},{"$f":"SUM(E37:G37)","v":0}]
["10.","Budget period 3",null,null,{"$f":"ROUND('Cost Share'!M13,0)","v":0},{"$f":"ROUND('Cost Share'!M14,0)","v":0},{"$f":"ROUND('Cost Share'!M15,0)","v":0},{"$f":"SUM(E38:G38)","v":0}]
["11.",{"$nulls":6},{"$f":"SUM(E39:G39)","v":0}]
["12.","Total (sum of lines 8 - 11)",null,null,{"$f":"SUM(E36:E39)","v":0},{"$f":"SUM(F36:F39)","v":0},{"$f":"SUM(G36:G39)","v":0},{"$f":"SUM(H36:H39)","v":0}]
["Section D - Forecasted Cash Needs"]
[null,null,null,"Total for 1st Year","1st Quarter","2nd Quarter","3rd Quarter","4th quarter"]
["13.","Federal",null,{"$f":"F8","v":0},{"$nulls":5},"Please populate with forecasted cash flow for the first year. This total should match total budget for the first year."]
["14.","Non-Federal",null,{"$f":"G8","v":0}]
["15.","Total (sum of lines 13 and 14)",null,{"$f":"SUM(D43:D44)","v":0},{"$f":"SUM(E43:E44)","v":0},{"$f":"SUM(F43:F44)","v":0},{"$f":"SUM(G43:G44)","v":0},{"$f":"SUM(H43:H44)","v":0},null,{"$f":"IF(SUM(E45:H45)=D45,\"Correct\",\"Review\")","v":"Correct"}]
["Section E - Budget Estimates of Federal Funds Needed for Balance of the Project"]
["(a) Grant Program",null,null,null,"Future Funding Periods (Years)"]
[{"$nulls":4},"Budget period 1","Budget period 2","Budget period 3"]
["16.","ARPA-E",null,null,{"$f":"F8","v":0},{"$f":"F9","v":0},{"$f":"F10","v":0}]
["17."]
["18."]
["19."]
["20.","Total (sum of lines 16-19)",null,null,{"$f":"SUM(E49:E52)","v":0},{"$f":"SUM(F49:F52)","v":0},{"$f":"SUM(G49:G52)","v":0},{"$f":"SUM(H49:H52)","v":0}]
["Section F - Other Budget Information"]
["21. Direct Charges",null,{"$f":"'Instructions and Summary'!E24-'Instructions and Summary'!E23","v":0},null,"22. Indirect Charges",{"$f":"'Instructions and Summary'!E23","v":0}]
[]
["23.  Remarks"]
[]
[{"$nulls":7},"SF-424A (Rev. 7-97) "]
["Previous Edition Usable",null,"              ",{"$nulls":4},"Prescribed by OMB Circular A-102"]
[null,null,"Authorized for Local Reproduction"]

{"sheet":"a. Personnel","index":3,"n_rows":182,"n_cols":14,"rows_kept":182,"cut":false,"hidden":false,"merged":[[53,0,53,1],[0,11,0,13],[1,0,1,13],[2,0,3,13],[5,0,6,0],[5,1,6,1],[5,2,5,4],[5,5,5,7],[5,8,5,10],[5,11,6,11],[181,0,181,3],[182,0,182,13],[0,0,0,1],[0,5,0,8],[0,3,0,4],[74,0,74,1],[95,0,95,1],[116,0,116,1],[137,0,137,1],[158,0,158,1],[179,0,179,1],[5,12,6,12],[5,13,6,13],[8,0,10,0],[11,0,11,1],[32,0,32,1]]}
["Budget Justification for SF 424A Budget",null,null,"Award Recipient:",null,{"$f":"'Instructions and Summary'!B4","v":0},{"$nulls":5},{"$f":"'Instructions and Summary'!G1","v":0}]
["a. Personnel"]
["PLEASE READ!!!\n\nList personnel costs solely for employees of the entity completing this workbook. All other personnel costs (of subrecipients or other contractual efforts of the entity preparing this) must be included under tab f., Contractual. This includes all consultants and FFRDCs. \n\nIdentify positions to be supported. Covered Individuals should be identified by title. All other personnel should be identified either by title or a group category. State the amounts of time (e.g., hours) to be expended, the base pay rate or composite base rate, total direct personnel compensation and identify the rate basis (e.g., actual salary, labor distribution report, technical estimate, state civil service rates). If composite rates are proposed for a particular position or group category, please provide a list of the proposed personnel and rates/hours used to compute the composite rates in the “Additional explanation/comments” box, as applicable. If you are proposing escalation rates for the labor rates, please explain in the “Additional explanation/comments” box at the bottom. \n\nNo individual may be reimbursed more than $200,000 per year under an ARPA-E funding agreement. \n"]
[]
[]
["Task # and Title","Position Title","Year 1",null,null,"Year 2",null,null,"Year 3",null,null," Total Hours"," Total Dollars","Rate Basis"]
[null,null,"Time \n(Hours)","Pay Rate\n($/Hr)","Total Budget Period 1","Time \n(Hours)","Pay Rate\n($/Hr)","Total Budget Period 2","Time \n(Hours)","Pay Rate\n($/Hr)","Total Budget Period 3"]
["1.  Generation 2A Receiver Design",null,{"$f":"SUM(C9:C11)","v":7960},null,{"$f":"SUM(E9:E11)","v":372400},{"$f":"SUM(F9:F11)","v":600},null,{"$f":"SUM(H9:H11)","v":26000},{"$f":"SUM(I9:I11)","v":800},null,{"$f":"SUM(K9:K11)","v":34000},{"$f":"C8+F8+I8","v":9360},{"$f":"E8+H8+K8","v":432400},"Actual Salary"]
["EXAMPLE ONLY!!!","Sr. Engineer    ",2000,85,{"$f":"C9*D9","v":170000},200,50,{"$f":"F9*G9","v":10000},200,50,{"$f":"I9*J9","v":10000},2400,190000,"Actual Salary"]
[null,"Electrical engineers (2)",4160,40,{"$f":"C10*D10","v":166400},400,40,{"$f":"F10*G10","v":16000},600,40,{"$f":"I10*J10","v":24000},5160,206400,"Actual Salary"]
[null,"Technician         ",1800,20,{"$f":"C11*D11","v":36000},0,0,{"$f":"F11*G11","v":0},0,0,{"$f":"I11*J11","v":0},1800,36000,"Actual Salary"]
["1.   (Task 1 Title)",null,{"$f":"SUM(C13:C32)","v":0},null,{"$f":"SUM(E13:E32)","v":0},{"$f":"SUM(F13:F32)","v":0},null,{"$f":"SUM(H13:H32)","v":0},{"$f":"SUM(I13:I32)","v":0},null,{"$f":"SUM(K13:K32)","v":0},0,0]
[{"$nulls":4},{"$f":"C13*D13","v":0},null,null,{"$f":"F13*G13","v":0},null,null,{"$f":"I13*J13","v":0},0,0]
[{"$nulls":4},{"$f":"C14*D14","v":0},null,null,{"$f":"F14*G14","v":0},null,null,{"$f":"I14*J14","v":0},{"$f":"C14+F14+I14","v":0},{"$f":"E14+H14+K14","v":0}]
[{"$nulls":4},0,null,null,0,null,null,0,0,0]
[{"$nulls":4},0,null,null,0,null,null,0,0,0]
[{"$nulls":4},0,null,null,0,null,null,0,0,0]
[{"$nulls":4},0,null,null,0,null,null,0,0,0]
[{"$nulls":4},0,null,null,0,null,null,0,0,0]
[{"$nulls":4},{"$f":"C20*D20","v":0},null,null,{"$f":"F20*G20","v":0},null,null,{"$f":"I20*J20","v":0},{"$f":"C20+F20+I20","v":0},{"$f":"E20+H20+K20","v":0}]
[{"$nulls":4},0,null,null,0,null,null,0,0,0]
[{"$nulls":4},0,null,null,0,null,null,0,0,0]
[{"$nulls":4},0,null,null,0,null,null,0,0,0]
[{"$nulls":4},0,null,null,0,null,null,0,0,0]
[{"$nulls":4},0,null,null,0,null,null,0,0,0]
[{"$nulls":4},0,null,null,0,null,null,0,0,0]
[{"$nulls":4},0,null,null,0,null,null,0,0,0]
[{"$nulls":4},0,null,null,0,null,null,0,0,0]
[{"$nulls":4},0,null,null,0,null,null,0,0,0]
[{"$nulls":4},0,null,null,0,null,null,0,0,0]
[{"$nulls":4},0,null,null,0,null,null,0,0,0]
[{"$nulls":4},0,null,null,0,null,null,0,0,0]
["2.   (Task 2 Title)",null,{"$f":"SUM(C34:C53)","v":0},null,{"$f":"SUM(E34:E53)","v":0},{"$f":"SUM(F34:F53)","v":0},null,{"$f":"SUM(H34:H53)","v":0},{"$f":"SUM(I34:I53)","v":0},null,{"$f":"SUM(K34:K53)","v":0},{"$f":"C33+F33+I33","v":0},{"$f":"E33+H33+K33","v":0}]
[{"$nulls":4},0,null,null,0,null,null,0,{"$f":"C34+F34+I34","v":0},{"$f":"E34+H34+K34","v":0}]
[{"$nulls":4},0,null,null,0,null,null,0,{"$f":"C35+F35+I35","v":0},{"$f":"E35+H35+K35","v":0}]
[{"$nulls":4},0,null,null,0,null,null,0,0,0]
[{"$nulls":4},0,null,null,0,null,null,0,0,0]
[{"$nulls":4},0,null,null,0,null,null,0,0,0]
[{"$nulls":4},0,null,null,0,null,null,0,0,0]
[{"$nulls":4},0,null,null,0,null,null,0,0,0]
[{"$nulls":4},0,null,null,0,null,null,0,0,0]
[{"$nulls":4},0,null,null,0,null,null,0,0,0]
[{"$nulls":4},0,null,null,0,null,null,0,0,0]
[{"$nulls":4},0,null,null,0,null,null,0,0,0]
[{"$nulls":4},0,null,null,0,null,null,0,0,0]
[{"$nulls":4},0,null,null,0,null,null,0,0,0]
[{"$nulls":4},0,null,null,0,null,null,0,0,0]
[{"$nulls":4},0,null,null,0,null,null,0,0,0]
[{"$nulls":4},0,null,null,0,null,null,0,0,0]
[{"$nulls":4},0,null,null,0,null,null,0,0,0]
[{"$nulls":4},0,null,null,0,null,null,0,0,0]
[{"$nulls":4},0,null,null,0,null,null,0,0,0]
[{"$nulls":4},0,null,null,0,null,null,0,0,0]
["3.   (Task 3 Title)",null,{"$f":"SUM(C55:C74)","v":0},null,{"$f":"SUM(E55:E74)","v":0},{"$f":"SUM(F55:F74)","v":0},null,{"$f":"SUM(H55:H74)","v":0},{"$f":"SUM(I55:I74)","v":0},null,{"$f":"SUM(K55:K74)","v":0},{"$f":"C54+F54+I54","v":0},{"$f":"E54+H54+K54","v":0}]
[{"$nulls":4},0,null,null,0,null,null,0,{"$f":"C55+F55+I55","v":0},{"$f":"E55+H55+K55","v":0}]
[{"$nulls":4},0,null,null,0,null,null,0,{"$f":"C56+F56+I56","v":0},{"$f":"E56+H56+K56","v":0}]
[{"$nulls":4},0,null,null,0,null,null,0,0,0]
[{"$nulls":4},0,null,null,0,null,null,0,0,0]
[{"$nulls":4},0,null,null,0,null,null,0,0,0]
[{"$nulls":4},0,null,null,0,null,null,0,0,0]
[{"$nulls":4},0,null,null,0,null,null,0,0,0]
[{"$nulls":4},0,null,null,0,null,null,0,0,0]
[{"$nulls":4},0,null,null,0,null,null,0,0,0]
[{"$nulls":4},0,null,null,0,null,null,0,0,0]
[{"$nulls":4},0,null,null,0,null,null,0,0,0]
[{"$nulls":4},0,null,null,0,null,null,0,0,0]
[{"$nulls":4},0,null,null,0,null,null,0,0,0]
[{"$nulls":4},0,null,null,0,null,null,0,0,0]
[{"$nulls":4},0,null,null,0,null,null,0,0,0]
[{"$nulls":4},0,null,null,0,null,null,0,0,0]
[{"$nulls":4},0,null,null,0,null,null,0,0,0]
[{"$nulls":4},0,null,null,0,null,null,0,0,0]
[{"$nulls":4},0,null,null,0,null,null,0,0,0]
[{"$nulls":4},0,null,null,0,null,null,0,0,0]
["4.   (Task 4 Title)",null,{"$f":"SUM(C76:C95)","v":0},null,{"$f":"SUM(E76:E95)","v":0},{"$f":"SUM(F76:F95)","v":0},null,{"$f":"SUM(H76:H95)","v":0},{"$f":"SUM(I76:I95)","v":0},null,{"$f":"SUM(K76:K95)","v":0},{"$f":"C75+F75+I75","v":0},{"$f":"E75+H75+K75","v":0}]
[{"$nulls":4},{"$f":"C76*D76","v":0},null,null,{"$f":"F76*G76","v":0},null,null,{"$f":"I76*J76","v":0},{"$f":"C76+F76+I76","v":0},{"$f":"E76+H76+K76","v":0}]
[{"$nulls":4},{"$f":"C77*D77","v":0},null,null,{"$f":"F77*G77","v":0},null,null,{"$f":"I77*J77","v":0},{"$f":"C77+F77+I77","v":0},{"$f":"E77+H77+K77","v":0}]
[{"$nulls":4},0,null,null,0,null,null,0,0,0]
[{"$nulls":4},0,null,null,0,null,null,0,0,0]
[{"$nulls":4},0,null,null,0,null,null,0,0,0]
[{"$nulls":4},0,null,null,0,null,null,0,0,0]
[{"$nulls":4},0,null,null,0,null,null,0,0,0]
[{"$nulls":4},0,null,null,0,null,null,0,0,0]
[{"$nulls":4},0,null,null,0,null,null,0,0,0]
[{"$nulls":4},0,null,null,0,null,null,0,0,0]
[{"$nulls":4},0,null,null,0,null,null,0,0,0]
[{"$nulls":4},0,null,null,0,null,null,0,0,0]
[{"$nulls":4},0,null,null,0,null,null,0,0,0]
[{"$nulls":4},0,null,null,0,null,null,0,0,0]
[{"$nulls":4},0,null,null,0,null,null,0,0,0]
[{"$nulls":4},0,null,null,0,null,null,0,0,0]
[{"$nulls":4},0,null,null,0,null,null,0,0,0]
[{"$nulls":4},0,null,null,0,null,null,0,0,0]
[{"$nulls":4},0,null,null,0,null,null,0,0,0]
[{"$nulls":4},0,null,null,0,null,null,0,0,0]
["5.   (Task 5 Title)",null,{"$f":"SUM(C97:C116)","v":0},null,{"$f":"SUM(E97:E116)","v":0},{"$f":"SUM(F97:F116)","v":0},null,{"$f":"SUM(H97:H116)","v":0},{"$f":"SUM(I97:I116)","v":0},null,{"$f":"SUM(K97:K116)","v":0},{"$f":"C96+F96+I96","v":0},{"$f":"E96+H96+K96","v":0}]
[{"$nulls":4},{"$f":"C97*D97","v":0},null,null,{"$f":"F97*G97","v":0},null,null,{"$f":"I97*J97","v":0},{"$f":"C97+F97+I97","v":0},{"$f":"E97+H97+K97","v":0}]
[{"$nulls":4},{"$f":"C98*D98","v":0},null,null,{"$f":"F98*G98","v":0},null,null,{"$f":"I98*J98","v":0},{"$f":"C98+F98+I98","v":0},{"$f":"E98+H98+K98","v":0}]
[{"$nulls":4},0,null,null,0,null,null,0,0,0]
[{"$nulls":4},0,null,null,0,null,null,0,0,0]
[{"$nulls":4},0,null,null,0,null,null,0,0,0]
[{"$nulls":4},0,null,null,0,null,null,0,0,0]
[{"$nulls":4},0,null,null,0,null,null,0,0,0]
[{"$nulls":4},0,null,null,0,null,null,0,0,0]
[{"$nulls":4},0,null,null,0,null,null,0,0,0]
[{"$nulls":4},0,null,null,0,null,null,0,0,0]
[{"$nulls":4},0,null,null,0,null,null,0,0,0]
[{"$nulls":4},0,null,null,0,null,null,0,0,0]
[{"$nulls":4},0,null,null,0,null,null,0,0,0]
[{"$nulls":4},0,null,null,0,null,null,0,0,0]
[{"$nulls":4},0,null,null,0,null,null,0,0,0]
[{"$nulls":4},0,null,null,0,null,null,0,0,0]
[{"$nulls":4},0,null,null,0,null,null,0,0,0]
[{"$nulls":4},0,null,null,0,null,null,0,0,0]
[{"$nulls":4},0,null,null,0,null,null,0,0,0]
[{"$nulls":4},0,null,null,0,null,null,0,0,0]
["6.   (Task 6 Title)",null,{"$f":"SUM(C118:C137)","v":0},null,{"$f":"SUM(E118:E137)","v":0},{"$f":"SUM(F118:F137)","v":0},null,{"$f":"SUM(H118:H137)","v":0},{"$f":"SUM(I118:I137)","v":0},null,{"$f":"SUM(K118:K137)","v":0},{"$f":"C117+F117+I117","v":0},{"$f":"E117+H117+K117","v":0}]
[{"$nulls":4},{"$f":"C118*D118","v":0},null,null,{"$f":"F118*G118","v":0},null,null,{"$f":"I118*J118","v":0},{"$f":"C118+F118+I118","v":0},{"$f":"E118+H118+K118","v":0}]
[{"$nulls":4},{"$f":"C119*D119","v":0},null,null,{"$f":"F119*G119","v":0},null,null,{"$f":"I119*J119","v":0},{"$f":"C119+F119+I119","v":0},{"$f":"E119+H119+K119","v":0}]
[{"$nulls":4},0,null,null,0,null,null,0,0,0]
[{"$nulls":4},0,null,null,0,null,null,0,0,0]
[{"$nulls":4},0,null,null,0,null,null,0,0,0]
[{"$nulls":4},0,null,null,0,null,null,0,0,0]
[{"$nulls":4},0,null,null,0,null,null,0,0,0]
[{"$nulls":4},0,null,null,0,null,null,0,0,0]
[{"$nulls":4},0,null,null,0,null,null,0,0,0]
[{"$nulls":4},0,null,null,0,null,null,0,0,0]
[{"$nulls":4},0,null,null,0,null,null,0,0,0]
[{"$nulls":4},0,null,null,0,null,null,0,0,0]
[{"$nulls":4},0,null,null,0,null,null,0,0,0]
[{"$nulls":4},0,null,null,0,null,null,0,0,0]
[{"$nulls":4},0,null,null,0,null,null,0,0,0]
[{"$nulls":4},0,null,null,0,null,null,0,0,0]
[{"$nulls":4},0,null,null,0,null,null,0,0,0]
[{"$nulls":4},0,null,null,0,null,null,0,0,0]
[{"$nulls":4},0,null,null,0,null,null,0,0,0]
[{"$nulls":4},0,null,null,0,null,null,0,0,0]
["7.   (Task 7 Title)",null,{"$f":"SUM(C139:C158)","v":0},null,{"$f":"SUM(E139:E158)","v":0},{"$f":"SUM(F139:F158)","v":0},null,{"$f":"SUM(H139:H158)","v":0},{"$f":"SUM(I139:I158)","v":0},null,{"$f":"SUM(K139:K158)","v":0},{"$f":"C138+F138+I138","v":0},{"$f":"E138+H138+K138","v":0}]
[{"$nulls":4},{"$f":"C139*D139","v":0},null,null,{"$f":"F139*G139","v":0},null,null,{"$f":"I139*J139","v":0},{"$f":"C139+F139+I139","v":0},{"$f":"E139+H139+K139","v":0}]
[{"$nulls":4},{"$f":"C140*D140","v":0},null,null,{"$f":"F140*G140","v":0},null,null,{"$f":"I140*J140","v":0},{"$f":"C140+F140+I140","v":0},{"$f":"E140+H140+K140","v":0}]
[{"$nulls":4},0,null,null,0,null,null,0,0,0]
[{"$nulls":4},0,null,null,0,null,null,0,0,0]
[{"$nulls":4},0,null,null,0,null,null,0,0,0]
[{"$nulls":4},0,null,null,0,null,null,0,0,0]
[{"$nulls":4},0,null,null,0,null,null,0,0,0]
[{"$nulls":4},0,null,null,0,null,null,0,0,0]
[{"$nulls":4},0,null,null,0,null,null,0,0,0]
[{"$nulls":4},0,null,null,0,null,null,0,0,0]
[{"$nulls":4},0,null,null,0,null,null,0,0,0]
[{"$nulls":4},0,null,null,0,null,null,0,0,0]
[{"$nulls":4},0,null,null,0,null,null,0,0,0]
[{"$nulls":4},0,null,null,0,null,null,0,0,0]
[{"$nulls":4},0,null,null,0,null,null,0,0,0]
[{"$nulls":4},0,null,null,0,null,null,0,0,0]
[{"$nulls":4},0,null,null,0,null,null,0,0,0]
[{"$nulls":4},0,null,null,0,null,null,0,0,0]
[{"$nulls":4},0,null,null,0,null,null,0,0,0]
[{"$nulls":4},0,null,null,0,null,null,0,0,0]
["8.   (Task 8 Title)",null,{"$f":"SUM(C160:C179)","v":0},null,{"$f":"SUM(E160:E179)","v":0},{"$f":"SUM(F160:F179)","v":0},null,{"$f":"SUM(H160:H179)","v":0},{"$f":"SUM(I160:I179)","v":0},null,{"$f":"SUM(K160:K179)","v":0},{"$f":"C159+F159+I159","v":0},{"$f":"E159+H159+K159","v":0}]
[{"$nulls":4},{"$f":"C160*D160","v":0},null,null,{"$f":"F160*G160","v":0},null,null,{"$f":"I160*J160","v":0},{"$f":"C160+F160+I160","v":0},{"$f":"E160+H160+K160","v":0}]
[{"$nulls":4},{"$f":"C161*D161","v":0},null,null,{"$f":"F161*G161","v":0},null,null,{"$f":"I161*J161","v":0},{"$f":"C161+F161+I161","v":0},{"$f":"E161+H161+K161","v":0}]
[{"$nulls":4},0,null,null,0,null,null,0,0,0]
[{"$nulls":4},0,null,null,0,null,null,0,0,0]
[{"$nulls":4},0,null,null,0,null,null,0,0,0]
[{"$nulls":4},0,null,null,0,null,null,0,0,0]
[{"$nulls":4},0,null,null,0,null,null,0,0,0]
[{"$nulls":4},{"$f":"C167*D167","v":0},null,null,{"$f":"F167*G167","v":0},null,null,{"$f":"I167*J167","v":0},{"$f":"C167+F167+I167","v":0},{"$f":"E167+H167+K167","v":0}]
[{"$nulls":4},0,null,null,0,null,null,0,0,0]
[{"$nulls":4},0,null,null,0,null,null,0,0,0]
[{"$nulls":4},0,null,null,0,null,null,0,0,0]
[{"$nulls":4},0,null,null,0,null,null,0,0,0]
[{"$nulls":4},0,null,null,0,null,null,0,0,0]
[{"$nulls":4},0,null,null,0,null,null,0,0,0]
[{"$nulls":4},0,null,null,0,null,null,0,0,0]
[{"$nulls":4},0,null,null,0,null,null,0,0,0]
[{"$nulls":4},0,null,null,0,null,null,0,0,0]
[{"$nulls":4},0,null,null,0,null,null,0,0,0]
[{"$nulls":4},0,null,null,0,null,null,0,0,0]
[{"$nulls":4},0,null,null,0,null,null,0,0,0]
["Total Personnel Costs",null,{"$f":"C12+C33+C54+C75+C96+C117+C138+C159","v":0},null,{"$f":"E12+E33+E54+E75+E96+E117+E138+E159","v":0},{"$f":"F12+F33+F54+F75+F96+F117+F138+F159","v":0},null,{"$f":"H12+H33+H54+H75+H96+H117+H138+H159","v":0},{"$f":"I12+I33+I54+I75+I96+I117+I138+I159","v":0},null,{"$f":"K12+K33+K54+K75+K96+K117+K138+K159","v":0},{"$f":"I180+F180+C180","v":0},{"$f":"K180+H180+E180","v":0}]
[]
["Additional Explanations/Comments (as necessary):"]

{"sheet":"b. Fringe Benefits","index":4,"n_rows":24,"n_cols":10,"rows_kept":24,"cut":false,"hidden":false,"merged":[[24,0,24,8],[15,1,15,8],[1,0,1,8],[2,0,2,2],[3,0,3,2],[9,0,9,2],[2,6,2,7],[3,6,3,7],[9,6,9,7],[16,1,16,8],[14,1,14,8],[13,0,13,8],[19,0,21,8],[4,0,4,2],[7,0,7,2],[8,0,8,2],[23,0,23,4],[12,0,12,8],[0,0,0,3],[0,5,0,7],[10,0,11,8],[5,0,5,2],[6,0,6,2],[17,0,17,8]]}
["Budget Justification for SF 424A Budget",null,null,null,"Award Recipient:",{"$f":"'Instructions and Summary'!B4","v":0},null,null,{"$f":"'Instructions and Summary'!G1","v":0}]
["b. Fringe Benefits"]
["Rate Type:",null,null,"Year 1","Year 2"," Year 3","Total"]
[null,null,null,0,0,0]
[null,null,null,0,0,0]
[null,null,null,0,0,0]
[null,null,null,0,0,0]
[null,null,null,0,0,0]
[null,null,null,0,0,0]
["Total fringe requested:",null,null,0,0,0,{"$f":"SUM(D10:F10)","v":0}]
[{"$f":"IF(A15=A17,\"One box should be checked in the fringe rate agreement section.\",\"\")","v":"One box should be checked in the fringe rate agreement section."}]
[]
["Applicants are required to indicate if they have a Federally approved fringe benefit rate agreement.\n\n"]
["If reimbursement for fringe benefits is requested, a Federally approved fringe benefit rate agreement, or a fringe benefit rate proposal is required in accordance with the instructions below. The fringe benefit rate proposal must be accepted by ARPA-E for estimating purposes. Calculate the fringe rate/dollars and enter this information above. "]
[null,"A fringe benefit rate has been negotiated with, or approved by, a Federal government agency.  A copy of the latest rate agreement is included with the Full Application (*see information below). "]
[]
[null,"A fringe benefit rate has not been negotiated with, or approved by, a Federal agency (*see information below)."]
["If a Recipient is selected for award negotiations and does not have a Federally approved fringe benefit rate agreement, then they are required to submit an Indirect Rate Proposal to the ARPA-E Grants Officer. An optional template for Indirect Rate Proposals is available at https://arpa-e.energy.gov/innovator-hub/FOA-resources-and-award-reporting/application-documents under ‘Budget Documents’.",{"$nulls":8},"X"]
[]
["*IMPORTANT:  In the space provided below (or as an attachment) provide a complete explanation and the full calculations used to derive the total fringe costs.  If the total fringe costs are a cumulative amount of more than one calculation or rate application, the explanation and calculations should identify all rates used, along with the base they were applied to (and how the base was derived), and a total for each (along with grand total).  Do not average the rates and apply them to get one fringe cost percentage.  NOTE:  You must apply the fringe benefit rate to both the Federal Share and Recipient Cost Share."]
[]
[]
[]
["Explanations/Comments/Calculations/Formula:"]

{"sheet":"c. Travel","index":5,"n_rows":138,"n_cols":8,"rows_kept":138,"cut":false,"hidden":false,"merged":[[0,7,0,8],[135,0,135,5],[7,0,7,5],[50,0,50,5],[70,0,70,5],[93,0,93,5],[113,0,113,5],[27,0,27,5],[134,0,134,7],[1,0,1,7],[0,4,0,6],[0,2,0,3],[138,0,138,7],[92,0,92,7],[6,0,6,7],[49,0,49,7],[2,0,2,7],[26,0,26,5],[46,0,46,5],[69,0,69,5],[89,0,89,5],[112,0,112,5],[132,0,132,5],[133,0,133,5],[90,0,90,5],[47,0,47,5]]}
["Budget Justification for SF 424A Budget",null,"Award Recipient:",null,{"$f":"'Instructions and Summary'!B4","v":0},null,null,{"$f":"'Instructions and Summary'!G1","v":0}]
["c. Travel"]
["PLEASE READ!!!\n\nProvide travel detail as requested below, identifying total Foreign and Domestic Travel as separate items. \"Purpose of travel\" should list items such as professional conference, DOE sponsored meeting, project management meeting, etc. The “Basis for Estimating Costs” should describe methods like past trips, current quotations, Federal Travel Regulations, etc. Note: Travel to the annual ARPA-E Energy Innovation Summit must be proposed under the “Other Direct Cost” tab for each Budget Year. \n\nAll listed travel must be necessary for the performance of the objectives in the Statement of Project Objectives and accompanying Technical Milestones and Deliverables. The Prime Recipient must budget for one visit per year with the ARPA-E Program Director in Washington, DC. "]
[]
["Purpose of travel","No. of Travelers","Depart From \n","Destination \n","No. of Days","Cost per Traveler","Cost per Trip","Basis for Estimating Costs"]
["EXAMPLE ONLY!!!   Visit to PV cell mfr. to set up vendor agreement",2,null,null,2,650,{"$f":"F6*B6","v":1300},"Internet prices"]
["Year 1"]
["Domestic Travel"]
[{"$nulls":6},{"$f":"F9*B9","v":0}]
[{"$nulls":6},0]
[{"$nulls":6},0]
[{"$nulls":6},0]
[{"$nulls":6},0]
[{"$nulls":6},0]
[{"$nulls":6},0]
[{"$nulls":6},0]
[{"$nulls":6},0]
[{"$nulls":6},0]
[{"$nulls":6},0]
[{"$nulls":6},0]
[{"$nulls":6},0]
[{"$nulls":6},0]
[{"$nulls":6},0]
[{"$nulls":6},0]
[{"$nulls":6},0]
[{"$nulls":6},0]
["Domestic Travel Subtotal",{"$nulls":5},{"$f":"SUM(G9:G26)","v":0}]
["International Travel"]
[{"$nulls":6},{"$f":"F29*B29","v":0}]
[{"$nulls":6},{"$f":"F30*B30","v":0}]
[{"$nulls":6},0]
[{"$nulls":6},0]
[{"$nulls":6},0]
[{"$nulls":6},0]
[{"$nulls":6},0]
[{"$nulls":6},0]
[{"$nulls":6},0]
[{"$nulls":6},0]
[{"$nulls":6},0]
[{"$nulls":6},0]
[{"$nulls":6},0]
[{"$nulls":6},0]
[{"$nulls":6},{"$f":"F43*B43","v":0}]
[{"$nulls":6},{"$f":"F44*B44","v":0}]
[{"$nulls":6},{"$f":"F45*B45","v":0}]
[{"$nulls":6},{"$f":"F46*B46","v":0}]
["International Travel Subtotal",{"$nulls":5},{"$f":"SUM(G29:G46)","v":0}]
["Year 1 Total",{"$nulls":5},{"$f":"G27+G47","v":0}]
[]
["Year 2"]
["Domestic Travel"]
[{"$nulls":6},{"$f":"F52*B52","v":0}]
[{"$nulls":6},0]
[{"$nulls":6},0]
[{"$nulls":6},0]
[{"$nulls":6},0]
[{"$nulls":6},0]
[{"$nulls":6},0]
[{"$nulls":6},0]
[{"$nulls":6},0]
[{"$nulls":6},0]
[{"$nulls":6},0]
[{"$nulls":6},0]
[{"$nulls":6},0]
[{"$nulls":6},0]
[{"$nulls":6},0]
[{"$nulls":6},0]
[{"$nulls":6},0]
[{"$nulls":6},0]
["Domestic Travel Subtotal",{"$nulls":5},{"$f":"SUM(G52:G69)","v":0}]
["International Travel"]
[{"$nulls":6},{"$f":"F72*B72","v":0}]
[{"$nulls":6},{"$f":"F73*B73","v":0}]
[{"$nulls":6},0]
[{"$nulls":6},0]
[{"$nulls":6},0]
[{"$nulls":6},0]
[{"$nulls":6},0]
[{"$nulls":6},0]
[{"$nulls":6},0]
[{"$nulls":6},0]
[{"$nulls":6},0]
[{"$nulls":6},0]
[{"$nulls":6},0]
[{"$nulls":6},0]
[{"$nulls":6},{"$f":"F86*B86","v":0}]
[{"$nulls":6},0]
[{"$nulls":6},{"$f":"F88*B88","v":0}]
[{"$nulls":6},{"$f":"F89*B89","v":0}]
["International Travel Subtotal",{"$nulls":5},{"$f":"SUM(G72:G89)","v":0}]
["Year 2 Total",{"$nulls":5},{"$f":"G70+G90","v":0}]
[]
["Year 3"]
["Domestic Travel"]
[{"$nulls":6},{"$f":"F95*B95","v":0}]
[{"$nulls":6},0]
[{"$nulls":6},0]
[{"$nulls":6},0]
[{"$nulls":6},0]
[{"$nulls":6},0]
[{"$nulls":6},0]
[{"$nulls":6},0]
[{"$nulls":6},0]
[{"$nulls":6},0]
[{"$nulls":6},0]
[{"$nulls":6},0]
[{"$nulls":6},0]
[{"$nulls":6},0]
[{"$nulls":6},0]
[{"$nulls":6},0]
[{"$nulls":6},0]
[{"$nulls":6},0]
["Domestic Travel Subtotal",{"$nulls":5},{"$f":"SUM(G95:G112)","v":0}]
["International Travel"]
[{"$nulls":6},{"$f":"F115*B115","v":0}]
[{"$nulls":6},{"$f":"F116*B116","v":0}]
[{"$nulls":6},0]
[{"$nulls":6},0]
[{"$nulls":6},0]
[{"$nulls":6},0]
[{"$nulls":6},0]
[{"$nulls":6},0]
[{"$nulls":6},0]
[{"$nulls":6},0]
[{"$nulls":6},0]
[{"$nulls":6},0]
[{"$nulls":6},0]
[{"$nulls":6},0]
[{"$nulls":6},{"$f":"F129*B129","v":0}]
[{"$nulls":6},{"$f":"F130*B130","v":0}]
[{"$nulls":6},{"$f":"F131*B131","v":0}]
[{"$nulls":6},{"$f":"F132*B132","v":0}]
["International Travel Subtotal",{"$nulls":5},{"$f":"SUM(G115:G132)","v":0}]
[" Year 3 Total",{"$nulls":5},{"$f":"G113+G133","v":0}]
[]
["PROJECT TOTAL",{"$nulls":5},{"$f":"G48+G91+G134","v":0}]
[]
["Additional Explanations/Comments (as necessary):"]

{"sheet":"d. Equipment","index":6,"n_rows":162,"n_cols":6,"rows_kept":162,"cut":false,"hidden":false,"merged":[[159,4,159,5],[158,0,158,5],[0,3,0,4],[0,5,0,6],[159,0,159,2],[162,0,162,5],[1,0,1,5],[57,0,57,5],[108,0,108,5],[2,0,2,5],[6,0,6,5],[161,0,161,3],[55,0,55,2],[106,0,106,2],[157,0,157,2],[55,4,55,5],[106,4,106,5]]}
["Budget Justification for SF 424A Budget",null,"Award Recipient:",{"$f":"'Instructions and Summary'!B4","v":0},null,{"$f":"'Instructions and Summary'!G1","v":0}]
["d. Equipment"]
["PLEASE READ!!!\n\nEquipment means tangible personal property (including information technology systems) having a useful life of more than one year and a per-unit acquisition cost that equals or exceeds the lesser of the capitalization level established by the recipient or subrecipient for financial statement purposes, or $10,000. See the definitions of capital assets, computing devices, general purpose equipment, information technology systems, special purpose equipment, and supplies at 2 CFR 200.1 “Equipment\". \n\nPlease identify and describe all proposed foreign equipment purchases, if any, and their country of origin. In addition, please identify any equipment that has any of the following originating in a Foreign Country of Concern (as defined in the NOFO): source code, communications components, or elements that will be connected to the internet.\n\nList all proposed equipment below, providing a basis of cost such as vendor quotes, catalog prices, prior invoices, etc., and briefly justify its need as it applies to the Statement of Project Objectives and accompanying Technical Milestones and Deliverables. If it is existing equipment, and the value of its contribution to the project budget is being shown as cost share, provide logical support for the estimated value shown. If it is new equipment which will retain a useful life upon completion of the project, provide logical support for the estimated value shown. \n\nFor equipment with a unit price of $50,000.00 or greater, also include a copy of the associated vendor quote or catalog price list. "]
[]
["Equipment Item","Qty","Unit Cost         ","Total Cost             ","Basis of Cost","Justification of Need"]
["EXAMPLE ONLY!!!   Thermal shock chamber",2,20000,{"$f":"B6*C6","v":40000},"Vendor Quote","Reliability testing of PV modules- Task 4.3"]
["Year 1"]
[null,null,null,{"$f":"B8*C8","v":0}]
[null,null,null,0]
[null,null,null,0]
[null,null,null,0]
[null,null,null,0]
[null,null,null,0]
[null,null,null,0]
[null,null,null,0]
[null,null,null,0]
[null,null,null,0]
[null,null,null,0]
[null,null,null,0]
[null,null,null,0]
[null,null,null,0]
[null,null,null,0]
[null,null,null,0]
[null,null,null,0]
[null,null,null,0]
[null,null,null,0]
[null,null,null,0]
[null,null,null,0]
[null,null,null,0]
[null,null,null,0]
[null,null,null,{"$f":"B31*C31","v":0}]
[null,null,null,0]
[null,null,null,0]
[null,null,null,0]
[null,null,null,0]
[null,null,null,0]
[null,null,null,0]
[null,null,null,0]
[null,null,null,0]
[null,null,null,0]
[null,null,null,0]
[null,null,null,0]
[null,null,null,0]
[null,null,null,0]
[null,null,null,0]
[null,null,null,0]
[null,null,null,0]
[null,null,null,0]
[null,null,null,0]
[null,null,null,0]
[null,null,null,0]
[null,null,null,0]
[null,null,null,0]
[null,null,null,0]
[null,null,null,0]
["Year 1 Total",null,null,{"$f":"SUM(D8:D55)","v":0}]
[]
["Year 2"]
[null,null,null,{"$f":"B59*C59","v":0}]
[null,null,null,{"$f":"B60*C60","v":0}]
[null,null,null,0]
[null,null,null,0]
[null,null,null,0]
[null,null,null,0]
[null,null,null,0]
[null,null,null,0]
[null,null,null,0]
[null,null,null,0]
[null,null,null,0]
[null,null,null,0]
[null,null,null,0]
[null,null,null,0]
[null,null,null,0]
[null,null,null,0]
[null,null,null,0]
[null,null,null,0]
[null,null,null,0]
[null,null,null,0]
[null,null,null,0]
[null,null,null,0]
[null,null,null,0]
[null,null,null,0]
[null,null,null,0]
[null,null,null,0]
[null,null,null,0]
[null,null,null,0]
[null,null,null,0]
[null,null,null,0]
[null,null,null,0]
[null,null,null,0]
[null,null,null,0]
[null,null,null,0]
[null,null,null,0]
[null,null,null,0]
[null,null,null,0]
[null,null,null,0]
[null,null,null,0]
[null,null,null,0]
[null,null,null,0]
[null,null,null,0]
[null,null,null,0]
[null,null,null,0]
[null,null,null,0]
[null,null,null,0]
[null,null,null,0]
[null,null,null,0]
["Year 2 Total",null,null,{"$f":"SUM(D59:D106)","v":0}]
[]
["Year 3"]
[null,null,null,{"$f":"B110*C110","v":0}]
[null,null,null,{"$f":"B111*C111","v":0}]
[null,null,null,0]
[null,null,null,0]
[null,null,null,0]
[null,null,null,0]
[null,null,null,0]
[null,null,null,0]
[null,null,null,0]
[null,null,null,0]
[null,null,null,0]
[null,null,null,0]
[null,null,null,0]
[null,null,null,0]
[null,null,null,0]
[null,null,null,0]
[null,null,null,0]
[null,null,null,0]
[null,null,null,0]
[null,null,null,0]
[null,null,null,0]
[null,null,null,0]
[null,null,null,0]
[null,null,null,0]
[null,null,null,0]
[null,null,null,0]
[null,null,null,0]
[null,null,null,0]
[null,null,null,0]
[null,null,null,0]
[null,null,null,0]
[null,null,null,0]
[null,null,null,0]
[null,null,null,0]
[null,null,null,0]
[null,null,null,0]
[null,null,null,0]
[null,null,null,0]
[null,null,null,0]
[null,null,null,0]
[null,null,null,0]
[null,null,null,0]
[null,null,null,0]
[null,null,null,{"$f":"B153*C153","v":0}]
[null,null,null,0]
[null,null,null,0]
[null,null,null,0]
[null,null,null,0]
["Year 3 Total",null,null,{"$f":"SUM(D110:D157)","v":0}]
[]
["PROJECT TOTAL",null,null,{"$f":"D56+D107+D158","v":0}]
[]
["Additional Explanations/Comments (as necessary):"]

{"sheet":"e. Supplies","index":7,"n_rows":230,"n_cols":6,"rows_kept":230,"cut":false,"hidden":false,"merged":[[0,5,0,6],[0,3,0,4],[1,0,1,5],[154,0,154,5],[2,0,2,5],[6,0,6,5],[81,0,81,5],[79,4,79,5],[152,4,152,5],[225,0,225,2],[152,0,152,2],[79,0,79,2],[226,0,226,5],[230,0,230,5],[229,0,229,2],[225,4,225,5],[227,4,227,5],[227,0,227,2]]}
["Budget Justification for SF 424A Budget",null,"Award Recipient:",{"$f":"'Instructions and Summary'!B4","v":0},null,{"$f":"'Instructions and Summary'!G1","v":0}]
["e. Supplies"]
["PLEASE READ!!!\n\n\"Supplies\" are generally defined as an item with an acquisition cost of $10,000 or less and a useful life expectancy of less than one year. Supplies are generally consumed during the project performance. Further definitions can be found at 2 CFR 200.1. \n\nList all proposed supplies below, providing a basis of cost such as vendor quotes, catalog prices, prior invoices, etc., and briefly justifying the need for the Supplies as they apply to the Statement of Project Objectives and accompanying Technical Milestones and Deliverables. Note that Supply items must be direct costs to the project at this budget category, and not duplicative of supply costs included in the indirect pool that is the basis of the indirect rate applied for this project. \n"]
[]
["General Category of Supplies","Qty","Unit Cost         ","Total Cost             ","Basis of Cost","Justification of Need"]
["EXAMPLE ONLY!!!  Wireless DAS components",10,360,3600,"Catalog price","For Alpha prototype - Task 2.4"]
["Year 1"]
[null,null,null,{"$f":"B8*C8","v":0}]
[null,null,null,{"$f":"B9*C9","v":0}]
[null,null,null,0]
[null,null,null,{"$f":"B11*C11","v":0}]
[null,null,null,0]
[null,null,null,0]
[null,null,null,0]
[null,null,null,0]
[null,null,null,0]
[null,null,null,0]
[null,null,null,0]
[null,null,null,0]
[null,null,null,0]
[null,null,null,0]
[null,null,null,0]
[null,null,null,0]
[null,null,null,0]
[null,null,null,0]
[null,null,null,0]
[null,null,null,0]
[null,null,null,0]
[null,null,null,0]
[null,null,null,0]
[null,null,null,0]
[null,null,null,0]
[null,null,null,0]
[null,null,null,0]
[null,null,null,0]
[null,null,null,0]
[null,null,null,0]
[null,null,null,0]
[null,null,null,0]
[null,null,null,0]
[null,null,null,0]
[null,null,null,0]
[null,null,null,0]
[null,null,null,0]
[null,null,null,0]
[null,null,null,0]
[null,null,null,0]
[null,null,null,0]
[null,null,null,0]
[null,null,null,0]
[null,null,null,0]
[null,null,null,0]
[null,null,null,0]
[null,null,null,0]
[null,null,null,0]
[null,null,null,0]
[null,null,null,0]
[null,null,null,0]
[null,null,null,0]
[null,null,null,0]
[null,null,null,0]
[null,null,null,0]
[null,null,null,0]
[null,null,null,0]
[null,null,null,0]
[null,null,null,0]
[null,null,null,0]
[null,null,null,0]
[null,null,null,0]
[null,null,null,0]
[null,null,null,0]
[null,null,null,0]
[null,null,null,0]
[null,null,null,0]
[null,null,null,0]
[null,null,null,0]
[null,null,null,0]
[null,null,null,0]
[null,null,null,0]
["Year 1 Total",null,null,{"$f":"SUM(D8:D79)","v":0}]
[]
["Year 2"]
[null,null,null,{"$f":"B83*C83","v":0}]
[null,null,null,{"$f":"B84*C84","v":0}]
[null,null,null,0]
[null,null,null,0]
[null,null,null,0]
[null,null,null,0]
[null,null,null,0]
[null,null,null,0]
[null,null,null,0]
[null,null,null,0]
[null,null,null,0]
[null,null,null,0]
[null,null,null,0]
[null,null,null,0]
[null,null,null,0]
[null,null,null,0]
[null,null,null,0]
[null,null,null,0]
[null,null,null,0]
[null,null,null,0]
[null,null,null,0]
[null,null,null,0]
[null,null,null,0]
[null,null,null,0]
[null,null,null,0]
[null,null,null,0]
[null,null,null,0]
[null,null,null,0]
[null,null,null,0]
[null,null,null,0]
[null,null,null,0]
[null,null,null,0]
[null,null,null,0]
[null,null,null,0]
[null,null,null,0]
[null,null,null,0]
[null,null,null,0]
[null,null,null,0]
[null,null,null,0]
[null,null,null,0]
[null,null,null,0]
[null,null,null,0]
[null,null,null,0]
[null,null,null,0]
[null,null,null,0]
[null,null,null,0]
[null,null,null,0]
[null,null,null,0]
[null,null,null,0]
[null,null,null,0]
[null,null,null,0]
[null,null,null,0]
[null,null,null,0]
[null,null,null,0]
[null,null,null,0]
[null,null,null,0]
[null,null,null,0]
[null,null,null,0]
[null,null,null,0]
[null,null,null,{"$f":"B142*C142","v":0}]
[null,null,null,0]
[null,null,null,0]
[null,null,null,0]
[null,null,null,0]
[null,null,null,0]
[null,null,null,0]
[null,null,null,0]
[null,null,null,0]
[null,null,null,{"$f":"B151*C151","v":0}]
[null,null,null,0]
["Year 2 Total",null,null,{"$f":"SUM(D83:D152)","v":0}]
[]
["Year 3"]
[null,null,null,{"$f":"B156*C156","v":0}]
[null,null,null,{"$f":"B157*C157","v":0}]
[null,null,null,{"$f":"B158*C158","v":0}]
[null,null,null,0]
[null,null,null,{"$f":"B160*C160","v":0}]
[null,null,null,{"$f":"B161*C161","v":0}]
[null,null,null,0]
[null,null,null,0]
[null,null,null,0]
[null,null,null,0]
[null,null,null,0]
[null,null,null,0]
[null,null,null,0]
[null,null,null,0]
[null,null,null,0]
[null,null,null,0]
[null,null,null,0]
[null,null,null,0]
[null,null,null,0]
[null,null,null,0]
[null,null,null,0]
[null,null,null,0]
[null,null,null,0]
[null,null,null,0]
[null,null,null,0]
[null,null,null,0]
[null,null,null,0]
[null,null,null,0]
[null,null,null,0]
[null,null,null,0]
[null,null,null,0]
[null,null,null,0]
[null,null,null,0]
[null,null,null,0]
[null,null,null,0]
[null,null,null,0]
[null,null,null,0]
[null,null,null,0]
[null,null,null,0]
[null,null,null,0]
[null,null,null,0]
[null,null,null,0]
[null,null,null,0]
[null,null,null,0]
[null,null,null,0]
[null,null,null,0]
[null,null,null,0]
[null,null,null,0]
[null,null,null,0]
[null,null,null,0]
[null,null,null,0]
[null,null,null,0]
[null,null,null,0]
[null,null,null,0]
[null,null,null,0]
[null,null,null,0]
[null,null,null,0]
[null,null,null,0]
[null,null,null,0]
[null,null,null,0]
[null,null,null,0]
[null,null,null,0]
[null,null,null,0]
[null,null,null,0]
[null,null,null,{"$f":"B220*C220","v":0}]
[null,null,null,0]
[null,null,null,0]
[null,null,null,0]
[null,null,null,0]
[null,null,null,0]
["Year 3 Total",null,null,{"$f":"SUM(D156:D225)","v":0}]
[]
["PROJECT TOTAL",null,null,{"$f":"D226+D153+D80","v":0}]
[]
["Additional Explanations/Comments (as necessary):"]

{"sheet":"f. Contractual","index":8,"n_rows":52,"n_cols":7,"rows_kept":52,"cut":false,"hidden":false,"merged":[[52,0,52,5],[0,0,0,1],[2,0,2,5],[1,0,1,5],[51,0,51,1],[3,0,3,5],[49,0,49,1],[34,0,34,1],[47,0,47,1],[20,0,20,1],[0,2,0,3]]}
["Budget Justification for SF 424A Budget                                                             Award Recipient:",null,{"$f":"'Instructions and Summary'!B4","v":0},null,null,{"$f":"'Instructions and Summary'!G1","v":0}]
["f. Contractual"]
["PLEASE READ!!!\n\nThe recipient completing this form must provide all costs related to subrecipients, vendors, contractors, consultants and FFRDC partners in the applicable boxes below.  \n\nSubrecipients:\n\nIn the comment box at the bottom of the tab, please provide a comprehensive explanation regarding how and who (at) your organization assessed the proposed sub-recipient costs as reasonable, allowable, and allocable to the project, in accordance with applicable cost principles (48 CFR 31.2 or 2 CFR part 200 Subpart E).  \n\nAdditionally, please confirm that you, as the Project Team Lead, are in compliance with the following: \n\n- Pass-Through Entity Clause, 2 CFR 200.332 \n- This verification can also be provided separately via a signed letter from your organization  \n\nARPA-E is NOT requesting a budget workbook or supporting budget documents for the subrecipient costs proposed. However, ARPA-E may, at any time, request supporting documents for proposed or actual costs. The Project Team Lead must be able to produce supporting documentation at ARPA-E request, to include site visits and desk audits. "]
["Vendors (includes contractors and consultants):\n\nList all vendors, contractors and consultants supplying commercial supplies or services used to support the project. \n\nPlease confirm the Project Team lead has implemented internal processes and procedures to ensure compliance with 2 CFR Part 200, Subpart D (Procurement Standards)  \n\nFor example, please specify if the selection of the contractor/vendor was competitive or sole sourced. If sole sourced, please provide supporting documentation that demonstrates compliance with 2 CFR Part 200, Subpart D.  \n\nFederal Research and Development Centers (FFRDCs): ARPA-E will request a separate budget workbook from the FFRDC as they will be issued a Work Authorization rather than a Cooperative Agreement. Please insert the total dollar amount for the FFRDC in the correct section below and a separate budget will be requested if selected."]
[]
["Sub-Recipient\nName/Organization","Purpose/Tasks in Statement of Project Objectives (SOPO)"," Year 1\nCosts","Year 2\nCosts","Year 3\nCosts","Project Total"]
["EXAMPLE ONLY!!!  XYZ Corp.","Partner to develop optimal fresnel lens for Gen 2 product - Task 2.4",48000,32000,16000,{"$f":"SUM(C7:E7)","v":96000},{"$f":"IF(F7>100000,\"Separate budget forms required for this sub-recipient!\", \" \")","v":" "}]
[{"$nulls":5},{"$f":"SUM(C8:E8)","v":0},{"$f":"IF(F8>=100000,\"Separate budget forms required for this sub-recipient!\", \" \")","v":" "}]
[{"$nulls":5},0]
[{"$nulls":5},0]
[{"$nulls":5},0]
[{"$nulls":5},0]
[{"$nulls":5},0]
[{"$nulls":5},0,{"$f":"IF(F14>100000,\"Separate budget forms required for this sub-recipient!\", \" \")","v":" "}]
[{"$nulls":5},0," "]
[{"$nulls":5},0," "]
[{"$nulls":5},0," "]
[{"$nulls":5},0," "]
[{"$nulls":5},0," "]
[{"$nulls":5},0," "]
["Total Sub-Recipient",null,{"$f":"SUM(C8:C20)","v":0},{"$f":"SUM(D8:D20)","v":0},{"$f":"SUM(E8:E19)","v":0},{"$f":"SUM(F8:F20)","v":0}]
[]
["Vendor \nName/Organization","Product or Service, Purpose/Need and Basis of Cost\n(Provide additional support at bottom of page as needed)","Year 1\nCosts","Year 2\nCosts","Year 3\nCosts","Project Total"]
["EXAMPLE ONLY!!!  ABC Corp.","Vendor for developing custom robotics to perform lens inspection,  alignment, and placement (Task 4 ).  Required for expanding CPV module mfg. capacity.  Cost is from competitive quotes.",32900,86500,null,{"$f":"SUM(C24:E24)","v":119400}]
[{"$nulls":5},{"$f":"SUM(C25:E25)","v":0}]
[{"$nulls":5},0]
[{"$nulls":5},0]
[{"$nulls":5},0]
[{"$nulls":5},0]
[{"$nulls":5},0]
[{"$nulls":5},0]
[{"$nulls":5},0]
[{"$nulls":5},0]
[{"$nulls":5},0]
["Total Vendor / Organization",null,{"$f":"SUM(C25:C34)","v":0},{"$f":"SUM(D25:D34)","v":0},{"$f":"SUM(E25:E34)","v":0},{"$f":"SUM(F25:F34)","v":0}]
[]
["FFRDC\nName/Organization","Purpose","Year 1\nCosts","Year 2\nCosts","Year 3\nCosts","Project Total"]
[null," ",null,null,null,{"$f":"SUM(C38:E38)","v":0}]
[{"$nulls":5},{"$f":"SUM(C39:E39)","v":0}]
[{"$nulls":5},{"$f":"SUM(C40:E40)","v":0}]
[{"$nulls":5},0]
[{"$nulls":5},{"$f":"SUM(C42:E42)","v":0}]
[{"$nulls":5},0]
[{"$nulls":5},0]
[{"$nulls":5},0]
[{"$nulls":5},0]
[{"$nulls":5},{"$f":"SUM(C47:E47)","v":0}]
["Total FFRDC",null,{"$f":"SUM(C38:C47)","v":0},{"$f":"SUM(D38:D47)","v":0},{"$f":"SUM(E38:E47)","v":0},{"$f":"SUM(C48:E48)","v":0}]
[]
["Total Contractual",null,{"$f":"C35+C48+C21","v":0},{"$f":"D35+D48+D21","v":0},{"$f":"E35+E48+E21","v":0},{"$f":"F35+F48+F21","v":0}]
[]
["Additional Explanations/Comments (as necessary):"]

{"sheet":"g. Construction","index":9,"n_rows":36,"n_cols":4,"rows_kept":36,"cut":false,"hidden":false,"merged":[[0,3,0,4],[17,0,17,3],[25,0,25,3],[36,0,36,3],[1,0,1,3],[5,0,5,3],[4,0,4,3],[2,0,2,3],[9,0,9,3],[23,2,23,3],[31,2,31,3],[33,2,33,3],[15,2,15,3],[16,0,16,3],[24,0,24,3],[32,0,32,3]]}
["Budget Justification for SF 424A Budget","Award Recipient:",{"$f":"'Instructions and Summary'!B4","v":0},{"$f":"'Instructions and Summary'!G1","v":0}]
["g. Construction"]
["PLEASE READ!!!\n\n\"Construction\" for the purpose of budgeting, is defined as all types of work done on a particular building, including erecting, altering, or remodeling.  Construction conducted by the award recipient is entered on this page.  Any construction work that is performed by a vendor or subrecipient to the award recipient should be entered under f. Contractual.\n\nList all proposed construction below, providing a basis of cost such as engineering estimates, prior construction, etc., and briefly justify its need as it applies to the Statement of Project Objectives and accompanying Technical Milestones and Deliverables being performed.\n\n"]
[]
["Overall description of construction activities:"]
["EXAMPLE ONLY!!! \"Build wind turbine platform\""]
[]
["General Description","Cost             ","Basis of Cost","Justification of Need"]
["EXAMPLE ONLY!!! Three days of excavation for platform site\n",28000,"Engineering estimate","Site must be prepared for construction of platform."]
["Year 1"]
[]
[]
[]
[]
[]
["Year 1 Total",{"$f":"SUM(B11:B15)","v":0}]
[]
["Year 2"]
[]
[]
[]
[]
[]
["Year 2 Total",{"$f":"SUM(B19:B23)","v":0}]
[]
["Year 3"]
[]
[]
[]
[]
[]
["Year 3 Total",{"$f":"SUM(B27:B31)","v":0}]
[]
["PROJECT TOTAL",{"$f":"-B32+B24+B16","v":0}]
[]
["Additional Explanations/Comments (as necessary):"]

{"sheet":"h. Other","index":10,"n_rows":94,"n_cols":13,"rows_kept":94,"cut":false,"hidden":false,"merged":[[0,0,0,1],[0,5,0,6],[94,0,94,5],[1,0,1,5],[2,0,16,5],[2,8,2,9],[90,0,90,5],[93,0,93,2]]}
["Budget Justification for SF 424A Budget               Award Recipient:",null,{"$f":"'Instructions and Summary'!B4","v":0},null,null,{"$f":"'Instructions and Summary'!G1","v":0}]
["h. Other Direct Costs",{"$nulls":10},"Non-Profit and For-Profit Entities Only"]
["PLEASE READ!!!\n\nRecipients must provide and justify proposed costs related to Other Direct Costs for each year of the entire budget period. Other Direct Costs are direct cost items required for the project which do not fit clearly into other categories and are not included in the indirect pool for which the indirect rate is being applied to this project. Other Direct Costs include Technology Transfer and Outreach (TT&O) activities. Examples of TT&O activities that are allowable under Federal costs principles are provided in Section I.G.8 of the NOFO. Recipients must provide a basis of cost (e.g., vendor quotes, prior purchases of similar or like items, published price list).          \n\nNote for TT&O Activities: Every Project Team is required to spend at least 5% of ARPA-E funding on TT&O activities to promote and further the development and deployment of the specific ARPA-E-funded technologies. All budget activities must relate to achieving specific objectives, Technical Milestones and Deliverables outlined in the Statement of Project Objectives. Recipients must list TT&O costs with a clear description of what activities are to take place (e.g., travel to the Annual ARPA-E Innovation Summit, work devoted to a commercialization plan). \n\nFor TT&O activities aimed at advancing a portfolio of technologies and/or products owned by the Recipient or Project Partner, only the portion of costs specifically attributable to advancing the ARPA-E funded technology will be reimbursed.  Recipients may seek a waiver of the TT&O requirement in whole or in part by including an explicit request in the appropriate section of their Business Assurances and Disclosures Form. \n\nNote for Patent Costs: ARPA-E will reimburse up to $30,000 in expenditures incurred under the funding agreement for costs and fees relating to the filing and prosecution of U.S. patent applications on subject inventions disclosed to ARPA-E and DOE in accordance with Attachment 2 to the funding agreement (https://arpa-e.energy.gov/innovator-hub/FOA-resources-and-award-reporting/negotiation-documents - see “Cooperative Agreements”).  Project Team Leads may use costs and fees in excess of $30,000 to meet their cost share obligations under the funding agreement. ARPA-E will not reimburse any costs and fees relating to the filing and prosecution of foreign patent applications. For examples of allowable patent costs, please see Section I.G.3 of the NOFO. \n\nAny fringe and indirect costs claimed as TT&O on this tab are considered as a portion of the overall indirect costs cap. A formula has been included in this tab to aid in tracking fringe and indirect costs as this budget workbook is filled out. \n",{"$nulls":7},"TT&O Totals",null,null,"Total Fringe and Indirect Cost as a % of Project Costs"]
[{"$nulls":8},"TT&O Personnel",{"$f":"SUMIFS($B$24:$B$90,$D$24:$D$90,\"Yes\",$E$24:$E$90,I4)","v":0},null,{"$f":"'Instructions and Summary'!#REF!","v":{"$error":"#REF!"}},{"$f":"'Instructions and Summary'!#REF!","v":{"$error":"#REF!"}}]
[{"$nulls":8},"TT&O Fringe",{"$f":"SUMIFS($B$24:$B$90,$D$24:$D$90,\"Yes\",$E$24:$E$90,I5)","v":0}]
[{"$nulls":8},"TT&O Travel",0]
[{"$nulls":8},"TT&O Equipment",0]
[{"$nulls":8},"TT&O Supplies",0]
[{"$nulls":8},"TT&O Other",{"$f":"SUMIFS($B$24:$B$90,$D$24:$D$90,\"Yes\",$E$24:$E$90,I9)","v":0}]
[{"$nulls":8},"TT&O Indirect",0]
[{"$nulls":8},"TT&O Contractual",0]
[{"$nulls":8},"TT&O Construction",0]
[{"$nulls":8},"TT&O Total",{"$f":"SUM(J4:J12)","v":0}]
[]
[{"$nulls":8},"TT&O Year 1",{"$f":"SUMIF(D24:D43, \"Yes\", B24:B43)","v":0}]
[{"$nulls":8},"TT&O Year 2",{"$f":"SUMIF(D47:D66, \"Yes\", B47:B66)","v":0}]
[{"$nulls":8},"TT&O Year 3",{"$f":"SUMIF(D70:D89, \"Yes\", B70:B89)","v":0}]
[]
["General description"," Cost             ","Basis of Cost","TT&O?","TT&O Type","Justification of Need"]
["EXAMPLE ONLY!!!  Grad student tuition",16000,"Established UCD costs","No",null,"Support of graduate students working on project "]
["EXAMPLE ONLY!!!  Contractual ",10000,"Vendor Quote","No",null,"Personnel costs to develop commercialization plans"]
["EXAMPLE ONLY!!!  Conferences",4000,"Travel & Conference Expenses ","Yes","TT&O Travel","ARPA-E Energy Summit travel and registration"]
[null,null,"Year 1"]
[{"$nulls":8},"Yes"]
[{"$nulls":8},"No"]
{"$rows_empty":18}
["Year 1 Total",{"$f":"SUM(B24:B43)","v":0}]
[]
[null,null,"Year 2"]
{"$rows_empty":20}
["Year 2 Total",{"$f":"SUM(B47:B66)","v":0}]
[]
[null,null,"Year 3"]
{"$rows_empty":20}
["Year 3 Total",{"$f":"SUM(B70:B89)","v":0}]
[]
["PROJECT TOTAL",{"$f":"B90+B67+B44","v":0}]
[]
["Additional Explanations/Comments (as necessary):"]

{"sheet":"i. Indirect Costs","index":11,"n_rows":22,"n_cols":11,"rows_kept":22,"cut":false,"hidden":false,"merged":[[22,0,22,8],[12,0,12,8],[11,0,11,8],[0,0,0,3],[0,7,0,8],[21,0,21,6],[8,0,8,2],[2,6,2,7],[3,6,3,7],[8,6,8,7],[1,0,1,8],[2,0,2,2],[3,0,3,2],[19,0,19,8],[9,0,10,8],[13,1,13,8],[16,0,16,8],[15,1,15,8],[14,1,14,8],[0,4,0,5],[4,0,4,2],[5,0,5,2],[6,0,6,2],[7,0,7,2]]}
["Budget Justification for SF 424A Budget          Award Recipient:",null,null,null,{"$f":"'Instructions and Summary'!B4","v":0},null,null,{"$f":"'Instructions and Summary'!G1","v":0}]
["i. Indirect Costs"]
["Rate type:",null,null,"Year 1","Year 2","Year 3","Total"]
[null,null,null,0,0,0]
[null,null,null,0,0,0]
[null,null,null,0,0,0]
[null,null,null,0,0,0]
[null,null,null,0,0,0]
["Total indirect costs requested:",null,null,0,0,0,{"$f":"SUM(D9:F9)","v":0}]
[{"$f":"IF(A14=A16,\"One box should be checked in the indirect rate agreement section.\",\"\")","v":"One box should be checked in the indirect rate agreement section."}]
[]
["Applicants are required to indicate if they have a Federally approved indirect rate agreement.\n\n"]
["If reimbursement for indirect costs is requested, a federally approved indirect rate agreement or an indirect rate proposal is required in accordance with the instructions below. The indirect rate proposal must be accepted by ARPA-E for estimating purposes. Calculate the indirect rate/dollars and enter this information above. ",{"$nulls":9},"x"]
[null,"An indirect rate has been negotiated with, or approved by, a Federal government agency.  A copy of the latest rate agreement is included with the Full Application (*see information below)."]
[]
[null,"An indirect rate agreement has not been negotiated with, or approved by, a Federal government agency (*see information below). "]
["If a Recipient is selected for award negotiations and does not have a Federally approved indirect rate agreement, then they are required to submit an Indirect Rate Proposal to the ARPA-E Grants Officer. An optional template for Indirect Rate Proposal is available at https://arpa-e.energy.gov/innovator-hub/FOA-resources-and-award-reporting/application-documents  under ‘Budget Documents’. "]
[]
[]
["*IMPORTANT: In the space provided below (or as an attachment) provide a complete explanation and the full calculations used to derive the total indirect costs. If the total indirect costs are a cumulative amount of more than one calculation or rate application, the explanation and calculations should identify all rates used, along with the base they were applied to (and how the base was derived), and a total for each (along with grand total). Do not average the rates and apply them to get one indirect cost percentage. NOTE: You must apply the indirect rate to both the Federal Share and Recipient Cost Share. "]
[]
["Explanations/Comments/Calculations/Formula:"]

{"sheet":"Cost Share","index":12,"n_rows":29,"n_cols":13,"rows_kept":29,"cut":false,"hidden":false,"merged":[[0,5,0,7],[24,0,24,3],[0,0,0,2],[1,0,1,7],[29,0,29,7],[2,0,2,7],[28,0,28,3],[25,5,25,6],[26,4,26,6],[26,0,26,1]]}
["Budget Justification for SF 424A Budget         Award Recipient:",null,null,{"$f":"'Instructions and Summary'!B4","v":0},null,{"$f":"'Instructions and Summary'!G1","v":0}]
["Cost Share"]
["PLEASE READ!!!\n\nAll costs listed in the Cost Share tab must also be accounted for in their respective budget category tabs. For example, if a Recipient is proposing to Cost Share a piece of Equipment, it must be listed both in this tab and in the Equipment tab.  \n\nRecipients must provide and justify proposed costs related to Cost Share for each year of the entire budget period. Recipients must provide a detailed explanation of the cash or cash value of all cost share proposed for the project. Please refer to Section II.D.6 of the NOFO for guidance on allowable cost share contributions. Recipients selected for award negotiations must provide cost share commitment letters, as described in Section II.D.8 of the NOFO.  \n\nProject teams are not permitted to receive fees or profits under ARPA-E awards. All monies must be spent on activities or equipment directly related to meeting the objectives in the Statement of Project Objectives and accompanying Technical Milestones and Deliverables. Additionally, foregone fee or profit by any member of the proposed Project Team may not be considered cost sharing under any resulting award. \n\nProject teams may NOT Cost Share any fringe or indirect costs in excess of the indirect cost cap, as those are considered unallowable costs. "]
[]
["Organization/Source                 ","Type","Type of Donor (MUST SELECT)","Cost Share Item ","Year 1\nCost Share","Year 2\nCost Share","Year 3\nCost Share","Total Project Cost Share"]
["EXAMPLE ONLY!!! ABC Company\n","Cash","Other","Project partner ABC Company will provide 40 PV modules for product development at 50% off the of the retail price of $680",13600,null,null,{"$f":"SUM(E6:G6)","v":13600}]
[{"$nulls":7},0,null,"Cash"]
[{"$nulls":7},0,null,"In Kind"]
[{"$nulls":7},0,null,"Other"]
[{"$nulls":7},0]
[{"$nulls":7},0]
[{"$nulls":7},0]
[{"$nulls":7},0,null,"Applicant",{"$f":"SUMIF($C$7:$C$24,J13,$E$7:$E$24)","v":0},{"$f":"SUMIF($C$7:$C$24,J13,$F$7:$F$24)","v":0},{"$f":"SUMIF($C$7:$C$24,J13,$G$7:$G$24)","v":0}]
[{"$nulls":7},0,null,"State",{"$f":"SUMIF($C$7:$C$24,J14,$E$7:$E$24)","v":0},{"$f":"SUMIF($C$7:$C$24,J14,$F$7:$F$24)","v":0},{"$f":"SUMIF($C$7:$C$24,J14,$G$7:$G$24)","v":0}]
[{"$nulls":7},0,null,"Other Sources",0,0,0]
[{"$nulls":7},0]
[{"$nulls":7},0]
[{"$nulls":7},0]
[{"$nulls":7},0]
[{"$nulls":7},0]
[{"$nulls":7},0]
[{"$nulls":7},0]
[{"$nulls":7},0]
[{"$nulls":7},0]
["Totals",null,null,null,{"$f":"SUM(E7:E24)","v":0},{"$f":"SUM(F7:F24)","v":0},{"$f":"SUM(G7:G24)","v":0},{"$f":"SUM(H7:H24)","v":0}]
[]
["Total Project Cost:  ",null,null,{"$f":"'Instructions and Summary'!E24","v":0},"Cost Share Percent of Award:",null,null,{"$f":"IFERROR(H25/D27,\"\")","v":""}]
[]
["Additional Explanations/Comments (as necessary):"]